BEGIN:VCALENDAR
VERSION:2.0
PRODID:-//eventon.com NONSGML v1.0//EN
BEGIN:VEVENT
UID:69e93830ab7ef
DTSTAMP:20260422T210552
DTSTART:20200317T193000Z
DTEND:20200317T220000Z
LOCATION:The Shoe Factory\,  Nicosia 
SUMMARY:Recital\,  Nicosia
DESCRIPTION: Peter Laul\,  piano Pharos Arts Foundation Beethoven: Cello Sonata No 1 in F major Op 5 Shostakovich: Cello Sonata in D minor Op 40 Interval Faure: Elegie in C minor\,  Op 24 Faure: Papillon\,  Op 77 Faure: Romance\,  Op 69 Strauss\,  R: Cello Sonata in F major\,  Op.6
END:VEVENT
END:VCALENDAR