BEGIN:VCALENDAR
VERSION:2.0
PRODID:-//eventon.com NONSGML v1.0//EN
BEGIN:VEVENT
UID:69e4ee1f9c1e4
DTSTAMP:20260419T150047
DTSTART:20260612T100000Z
DTEND:20260614T180000Z
LOCATION:
SUMMARY:MSV Maestro Sessions (Prague\,  CZE)
DESCRIPTION: MASTERCLASSES ➡ REGISTRATION
END:VEVENT
END:VCALENDAR