BEGIN:VCALENDAR
VERSION:2.0
PRODID:-//eventon.com NONSGML v1.0//EN
BEGIN:VEVENT
UID:69e4e9d12f74f
DTSTAMP:20260419T144225
DTSTART:20260713T100000Z
DTEND:20260718T180000Z
LOCATION:
SUMMARY:Domaine Forget de Charlevoix (Québec\,  CAN)
DESCRIPTION: Masterclasses INSCRIPTIONS jusqu'au 5 février 2026
END:VEVENT
END:VCALENDAR